BEGIN:VCALENDAR
VERSION:2.0
PRODID:-//ChamberMaster//Event Calendar 2.0//EN
METHOD:PUBLISH
X-PUBLISHED-TTL:P1H
REFRESH-INTERVAL:P1H
CALSCALE:GREGORIAN
BEGIN:VTIMEZONE
TZID:America/New_York
BEGIN:DAYLIGHT
RRULE:FREQ=YEARLY;BYMONTH=3;BYDAY=2SU
DTSTART:20070101T000000
TZOFFSETFROM:-0500
TZOFFSETTO:-0400
TZNAME:Eastern Daylight Time
END:DAYLIGHT
BEGIN:STANDARD
RRULE:FREQ=YEARLY;BYMONTH=11;BYDAY=1SU
DTSTART:20070101T000000
TZOFFSETFROM:-0400
TZOFFSETTO:-0500
TZNAME:Eastern Standard Time
END:STANDARD
END:VTIMEZONE
BEGIN:VEVENT
DTSTART;VALUE=DATE:20260504
DTEND;VALUE=DATE:20260509
TRANSP:TRANSPARENT
X-MICROSOFT-CDO-ALLDAYEVENT:TRUE
SUMMARY:🟦Export Week
DESCRIPTION:About Export WeekIn celebration of World Trade Month\, the U.S. Commercial Service will host a number of export sessions during the first week of May as well as throughout the month! The sessions\, led by both private and public sector experts\, will feature tradecraft programs and industry focused opportunities. Many of the programs are being offered free of charge and you can choose as many as you'd like to attend. Whether you are new-to-export or an experienced exporter\, Export Week will provide valuable information on forward thinking strategies and invaluable resources to increase your global sales.Learn More
X-ALT-DESC;FMTTYPE=text/html:<!DOCTYPE html><html><head><title></title></head><body aria-disabled="false"><h2 style="box-sizing: inherit\; font-family: Merriweather\, Arial\, Verdana\, sans-serif\; font-weight: 700\; font-style: normal\; line-height: 1.33\; color: rgb(0\, 0\, 0)\; font-size: 28px\; font-variant-ligatures: normal\; font-variant-caps: normal\; letter-spacing: normal\; orphans: 2\; text-align: start\; text-indent: 0px\; text-transform: none\; widows: 2\; word-spacing: 0px\; -webkit-text-stroke-width: 0px\; white-space: normal\; text-decoration-thickness: initial\; text-decoration-style: initial\; text-decoration-color: initial\;">About Export Week</h2><p style="box-sizing: inherit\; color: rgb(44\, 44\, 44)\; font-size: 18.64px\; font-family: PublicSans\, Arial\, Verdana\, sans-serif\; font-style: normal\; font-variant-ligatures: normal\; font-variant-caps: normal\; font-weight: 300\; letter-spacing: normal\; orphans: 2\; text-align: start\; text-indent: 0px\; text-transform: none\; widows: 2\; word-spacing: 0px\; -webkit-text-stroke-width: 0px\; white-space: normal\; text-decoration-thickness: initial\; text-decoration-style: initial\; text-decoration-color: initial\;">In celebration of World Trade Month\, the U.S. Commercial Service will host a number of export sessions during the first week of May as well as throughout the month! The sessions\, led by both private and public sector experts\, will feature tradecraft programs and industry focused opportunities. Many of the programs are being offered free of charge and you can choose as many as you&rsquo\;d like to attend. Whether you are new-to-export or an experienced exporter\, Export Week will provide valuable information on forward thinking strategies and invaluable resources to increase your global sales.</p><p style="box-sizing: inherit\; color: rgb(44\, 44\, 44)\; font-size: 18.64px\; font-family: PublicSans\, Arial\, Verdana\, sans-serif\; font-style: normal\; font-variant-ligatures: normal\; font-variant-caps: normal\; font-weight: 300\; letter-spacing: normal\; orphans: 2\; text-align: start\; text-indent: 0px\; text-transform: none\; widows: 2\; word-spacing: 0px\; -webkit-text-stroke-width: 0px\; white-space: normal\; text-decoration-thickness: initial\; text-decoration-style: initial\; text-decoration-color: initial\;"><a fr-original-style="" href="https://www.trade.gov/us-commercial-service-export-week" rel="noopener noreferrer" style="user-select: auto\;" target="_blank"><strong fr-original-style="" style="font-weight: 700\;">Learn More</strong></a></p></body></html>
LOCATION:
UID:e.4070.1450341
SEQUENCE:3
DTSTAMP:20260425T152141Z
URL:https://business.nhtechalliance.org/small-calendar/Details/export-week-1717920?sourceTypeId=Hub
END:VEVENT
END:VCALENDAR
