BEGIN:VCALENDAR
VERSION:2.0
PRODID:-//ChamberMaster//Event Calendar 2.0//EN
METHOD:PUBLISH
X-PUBLISHED-TTL:P1H
REFRESH-INTERVAL:P1H
CALSCALE:GREGORIAN
BEGIN:VTIMEZONE
TZID:America/New_York
BEGIN:DAYLIGHT
RRULE:FREQ=YEARLY;BYMONTH=3;BYDAY=2SU
DTSTART:20070101T000000
TZOFFSETFROM:-0500
TZOFFSETTO:-0400
TZNAME:Eastern Daylight Time
END:DAYLIGHT
BEGIN:STANDARD
RRULE:FREQ=YEARLY;BYMONTH=11;BYDAY=1SU
DTSTART:20070101T000000
TZOFFSETFROM:-0400
TZOFFSETTO:-0500
TZNAME:Eastern Standard Time
END:STANDARD
END:VTIMEZONE
BEGIN:VEVENT
DTSTART;TZID=America/New_York:20260501T090000
DTEND;TZID=America/New_York:20260501T110000
X-MICROSOFT-CDO-ALLDAYEVENT:FALSE
SUMMARY:🟦Founders & Funders Breakfast
DESCRIPTION:About EventWe're excited to gather Boston's startup community for coffee\, breakfast\, and networking\, co-hosted by Fidelity Private Shares & York IE.If you have a founder friend who might be interested as well\, please ping us\, and we'll try to make space for them!Register
X-ALT-DESC;FMTTYPE=text/html:<!DOCTYPE html><html><head><title></title></head><body aria-disabled="false"><p><strong fr-original-style="" style="font-weight: 700\;">About Event</strong></p><p>We&#39\;re excited to gather Boston&#39\;s startup community for coffee\, breakfast\, and networking\, co-hosted by Fidelity Private Shares &amp\; York IE.</p><p>If you have a founder friend who might be interested as well\, please ping us\, and we&#39\;ll try to make space for them!</p><p><a fr-original-style="" href="https://luma.com/td9jo90p?_hsenc=p2ANqtz-_Lu7HW1iWa1iZpLDfk623NRCJxjUNbINVjfmVFxkSSKDqi6UCBMx7LyybjPFdp902e7sKBEnD5d56z59YU0EsEEvfN5A&_hsmi=415147991&utm_campaign=Startup%20Growth%20Newsletter&utm_content=415129750&utm_medium=email&utm_source=hs_email" rel="noopener noreferrer" style="user-select: auto\;" target="_blank"><strong fr-original-style="" style="font-weight: 700\;">Register</strong></a></p></body></html>
LOCATION:Cambridge MA
UID:e.4070.1450347
SEQUENCE:3
DTSTAMP:20260425T152242Z
URL:https://business.nhtechalliance.org/small-calendar/Details/founders-funders-breakfast-1717926?sourceTypeId=Hub
END:VEVENT
END:VCALENDAR
