BEGIN:VCALENDAR
VERSION:2.0
PRODID:-//ChamberMaster//Event Calendar 2.0//EN
METHOD:PUBLISH
X-PUBLISHED-TTL:P1H
REFRESH-INTERVAL:P1H
CALSCALE:GREGORIAN
BEGIN:VTIMEZONE
TZID:America/New_York
BEGIN:DAYLIGHT
RRULE:FREQ=YEARLY;BYMONTH=3;BYDAY=2SU
DTSTART:20070101T000000
TZOFFSETFROM:-0500
TZOFFSETTO:-0400
TZNAME:Eastern Daylight Time
END:DAYLIGHT
BEGIN:STANDARD
RRULE:FREQ=YEARLY;BYMONTH=11;BYDAY=1SU
DTSTART:20070101T000000
TZOFFSETFROM:-0400
TZOFFSETTO:-0500
TZNAME:Eastern Standard Time
END:STANDARD
END:VTIMEZONE
BEGIN:VEVENT
DTSTART;TZID=America/New_York:20260410T084500
DTEND;TZID=America/New_York:20260410T100000
X-MICROSOFT-CDO-ALLDAYEVENT:FALSE
SUMMARY:🟦Growing NH's STEM Pipeline An Inside Look at Academy for Science and Design
DESCRIPTION:Growing NH's STEM Pipeline An Inside Look at Academy for Science and DesignFriday\, April 10th\, 2027 Academy for Science and Design (ASD)\, 9 Townsend West\, Nashua\, NH 030638:45-10:00 am (arrival 8:30-8:45 am)This informational gathering is designed to give you a clear picture of how ASD fits into the broader landscape of educational pathways in New Hampshire\, and why it matters for our state's future. You will hear directly from ASD leadership\, educators\, and students\, and leave with a solid understanding of:ASD's program model and what makes our approach to STEM education distinctiveWhere our students go -- educational and post-secondary outcomes that connect directly to NH's workforce needsWhat we are focused on now and in the years ahead to prepare the next generation of STEM professionalsA brief tour of our facilities will also be included.Light breakfast and coffee will be provided.RSVP by Friday\, April 3rd\, 2026 using THIS LINK
X-ALT-DESC;FMTTYPE=text/html:<!DOCTYPE html><html><head><title></title></head><body aria-disabled="false"><p dir="ltr" style="color: rgb(34\, 34\, 34)\; font-family: Arial\, Helvetica\, sans-serif\; font-size: small\; font-style: normal\; font-variant-ligatures: normal\; font-variant-caps: normal\; font-weight: 400\; letter-spacing: normal\; orphans: 2\; text-align: start\; text-indent: 0px\; text-transform: none\; widows: 2\; word-spacing: 0px\; -webkit-text-stroke-width: 0px\; white-space: normal\; background-color: rgb(255\, 255\, 255)\; text-decoration-thickness: initial\; text-decoration-style: initial\; text-decoration-color: initial\; line-height: 1.38\; margin-top: 12pt\; margin-bottom: 12pt\;"><span style="font-size: 11pt\; font-family: Georgia\, serif\; color: rgb(0\, 0\, 0)\; background-color: transparent\; font-weight: 700\; font-variant-numeric: normal\; font-variant-east-asian: normal\; font-variant-alternates: normal\; vertical-align: baseline\;">Growing NH&#39\;s STEM Pipeline&nbsp\;</span><span style="font-size: 11pt\; font-family: Georgia\, serif\; color: rgb(0\, 0\, 0)\; background-color: transparent\; font-weight: 700\; font-style: italic\; font-variant-numeric: normal\; font-variant-east-asian: normal\; font-variant-alternates: normal\; vertical-align: baseline\;">An Inside Look at Academy for Science and Design</span></p><p dir="ltr" style="color: rgb(34\, 34\, 34)\; font-family: Arial\, Helvetica\, sans-serif\; font-size: small\; font-style: normal\; font-variant-ligatures: normal\; font-variant-caps: normal\; font-weight: 400\; letter-spacing: normal\; orphans: 2\; text-align: start\; text-indent: 0px\; text-transform: none\; widows: 2\; word-spacing: 0px\; -webkit-text-stroke-width: 0px\; white-space: normal\; background-color: rgb(255\, 255\, 255)\; text-decoration-thickness: initial\; text-decoration-style: initial\; text-decoration-color: initial\; line-height: 1.2\; margin-top: 0pt\; margin-bottom: 0pt\;"><span style="font-size: 11pt\; font-family: Georgia\, serif\; color: rgb(0\, 0\, 0)\; background-color: transparent\; font-variant-numeric: normal\; font-variant-east-asian: normal\; font-variant-alternates: normal\; vertical-align: baseline\;">Friday\, April 10th\, 2027&nbsp\;</span></p><p dir="ltr" style="color: rgb(34\, 34\, 34)\; font-family: Arial\, Helvetica\, sans-serif\; font-size: small\; font-style: normal\; font-variant-ligatures: normal\; font-variant-caps: normal\; font-weight: 400\; letter-spacing: normal\; orphans: 2\; text-align: start\; text-indent: 0px\; text-transform: none\; widows: 2\; word-spacing: 0px\; -webkit-text-stroke-width: 0px\; white-space: normal\; background-color: rgb(255\, 255\, 255)\; text-decoration-thickness: initial\; text-decoration-style: initial\; text-decoration-color: initial\; line-height: 1.2\; margin-top: 0pt\; margin-bottom: 0pt\;"><span style="font-size: 11pt\; font-family: Georgia\, serif\; color: rgb(0\, 0\, 0)\; background-color: transparent\; font-variant-numeric: normal\; font-variant-east-asian: normal\; font-variant-alternates: normal\; vertical-align: baseline\;">Academy for Science and Design (ASD)\, 9 Townsend West\, Nashua\, NH 03063</span></p><p dir="ltr" style="color: rgb(34\, 34\, 34)\; font-family: Arial\, Helvetica\, sans-serif\; font-size: small\; font-style: normal\; font-variant-ligatures: normal\; font-variant-caps: normal\; font-weight: 400\; letter-spacing: normal\; orphans: 2\; text-align: start\; text-indent: 0px\; text-transform: none\; widows: 2\; word-spacing: 0px\; -webkit-text-stroke-width: 0px\; white-space: normal\; background-color: rgb(255\, 255\, 255)\; text-decoration-thickness: initial\; text-decoration-style: initial\; text-decoration-color: initial\; line-height: 1.2\; margin-top: 0pt\; margin-bottom: 0pt\;"><span style="font-size: 11pt\; font-family: Georgia\, serif\; color: rgb(0\, 0\, 0)\; background-color: transparent\; font-variant-numeric: normal\; font-variant-east-asian: normal\; font-variant-alternates: normal\; vertical-align: baseline\;">8:45-10:00 am (arrival 8:30-8:45 am)</span></p><p dir="ltr" style="color: rgb(34\, 34\, 34)\; font-family: Arial\, Helvetica\, sans-serif\; font-size: small\; font-style: normal\; font-variant-ligatures: normal\; font-variant-caps: normal\; font-weight: 400\; letter-spacing: normal\; orphans: 2\; text-align: start\; text-indent: 0px\; text-transform: none\; widows: 2\; word-spacing: 0px\; -webkit-text-stroke-width: 0px\; white-space: normal\; background-color: rgb(255\, 255\, 255)\; text-decoration-thickness: initial\; text-decoration-style: initial\; text-decoration-color: initial\; line-height: 1.38\; margin-top: 12pt\; margin-bottom: 12pt\;"><span style="font-size: 11pt\; font-family: Georgia\, serif\; color: rgb(0\, 0\, 0)\; background-color: transparent\; font-variant-numeric: normal\; font-variant-east-asian: normal\; font-variant-alternates: normal\; vertical-align: baseline\;">This informational gathering is designed to give you a clear picture of how ASD fits into the broader landscape of educational pathways in New Hampshire\, and why it matters for our state&#39\;s future. You will hear directly from ASD leadership\, educators\, and students\, and leave with a solid understanding of:</span></p><p dir="ltr" style="line-height: 1.38\; margin-top: 12pt\; margin-bottom: 0pt\;"><span style="font-size: 11pt\; background-color: transparent\; font-variant-numeric: normal\; font-variant-east-asian: normal\; font-variant-alternates: normal\; vertical-align: baseline\;">ASD&#39\;s program model and what makes our approach to STEM education distinctive</span></p><p dir="ltr" style="line-height: 1.38\; margin-top: 0pt\; margin-bottom: 0pt\;"><span style="font-size: 11pt\; background-color: transparent\; font-variant-numeric: normal\; font-variant-east-asian: normal\; font-variant-alternates: normal\; vertical-align: baseline\;">Where our students go -- educational and post-secondary outcomes that connect directly to NH&#39\;s workforce needs</span></p><p dir="ltr" style="line-height: 1.38\; margin-top: 0pt\; margin-bottom: 12pt\;"><span style="font-size: 11pt\; background-color: transparent\; font-variant-numeric: normal\; font-variant-east-asian: normal\; font-variant-alternates: normal\; vertical-align: baseline\;">What we are focused on now and in the years ahead to prepare the next generation of STEM professionals</span></p><p dir="ltr" style="color: rgb(34\, 34\, 34)\; font-family: Arial\, Helvetica\, sans-serif\; font-size: small\; font-style: normal\; font-variant-ligatures: normal\; font-variant-caps: normal\; font-weight: 400\; letter-spacing: normal\; orphans: 2\; text-align: start\; text-indent: 0px\; text-transform: none\; widows: 2\; word-spacing: 0px\; -webkit-text-stroke-width: 0px\; white-space: normal\; background-color: rgb(255\, 255\, 255)\; text-decoration-thickness: initial\; text-decoration-style: initial\; text-decoration-color: initial\; line-height: 1.38\; margin-top: 12pt\; margin-bottom: 12pt\;"><span style="font-size: 11pt\; font-family: Georgia\, serif\; color: rgb(0\, 0\, 0)\; background-color: transparent\; font-variant-numeric: normal\; font-variant-east-asian: normal\; font-variant-alternates: normal\; vertical-align: baseline\;">A brief tour of our facilities will also be included.</span></p><p dir="ltr" style="color: rgb(34\, 34\, 34)\; font-family: Arial\, Helvetica\, sans-serif\; font-size: small\; font-style: normal\; font-variant-ligatures: normal\; font-variant-caps: normal\; font-weight: 400\; letter-spacing: normal\; orphans: 2\; text-align: start\; text-indent: 0px\; text-transform: none\; widows: 2\; word-spacing: 0px\; -webkit-text-stroke-width: 0px\; white-space: normal\; background-color: rgb(255\, 255\, 255)\; text-decoration-thickness: initial\; text-decoration-style: initial\; text-decoration-color: initial\; line-height: 1.38\; margin-top: 12pt\; margin-bottom: 12pt\;"><span style="font-size: 11pt\; font-family: Georgia\, serif\; color: rgb(0\, 0\, 0)\; background-color: transparent\; font-variant-numeric: normal\; font-variant-east-asian: normal\; font-variant-alternates: normal\; vertical-align: baseline\;">Light breakfast and coffee will be provided.</span></p><p dir="ltr" style="color: rgb(34\, 34\, 34)\; font-family: Arial\, Helvetica\, sans-serif\; font-size: small\; font-style: normal\; font-variant-ligatures: normal\; font-variant-caps: normal\; font-weight: 400\; letter-spacing: normal\; orphans: 2\; text-align: start\; text-indent: 0px\; text-transform: none\; widows: 2\; word-spacing: 0px\; -webkit-text-stroke-width: 0px\; white-space: normal\; background-color: rgb(255\, 255\, 255)\; text-decoration-thickness: initial\; text-decoration-style: initial\; text-decoration-color: initial\; line-height: 1.38\; margin-top: 12pt\; margin-bottom: 12pt\;"><span style="font-size: 11pt\; font-family: Georgia\, serif\; color: rgb(0\, 0\, 0)\; background-color: transparent\; font-variant-numeric: normal\; font-variant-east-asian: normal\; font-variant-alternates: normal\; vertical-align: baseline\;">RSVP by Friday\, April 3rd\, 2026 using&nbsp\;</span><a data-saferedirecturl="https://www.google.com/url?q=https://docs.google.com/forms/d/e/1FAIpQLSduzllylIoRXCfRiXfHXsg3VB_BHKF32LlOgMSH1vsg2v40wg/viewform?usp%3Dpublish-editor&source=gmail&ust=1773424106949000&usg=AOvVaw1HdXM_Aj-9X7tPEJZQIZHx" fr-original-style="color: rgb(17\, 85\, 204)\; text-decoration-line: none\;" href="https://docs.google.com/forms/d/e/1FAIpQLSduzllylIoRXCfRiXfHXsg3VB_BHKF32LlOgMSH1vsg2v40wg/viewform?usp=publish-editor" rel="noopener noreferrer" style="color: rgb(17\, 85\, 204)\; text-decoration-line: none\; user-select: auto\;" target="_blank"><span style="font-size: 11pt\; font-family: Georgia\, serif\; background-color: transparent\; font-variant-numeric: normal\; font-variant-east-asian: normal\; font-variant-alternates: normal\; text-decoration-line: underline\; vertical-align: baseline\;">THIS LINK</span></a></p></body></html>
LOCATION:9 Townsend West Nashua NH
UID:e.4070.1419711
SEQUENCE:3
DTSTAMP:20260425T152548Z
URL:https://business.nhtechalliance.org/small-calendar/Details/growing-nh-s-stem-pipeline-an-inside-look-at-academy-for-science-and-design-1678082?sourceTypeId=Hub
END:VEVENT
END:VCALENDAR
