BEGIN:VCALENDAR
VERSION:2.0
PRODID:-//ChamberMaster//Event Calendar 2.0//EN
METHOD:PUBLISH
X-PUBLISHED-TTL:P1H
REFRESH-INTERVAL:P1H
CALSCALE:GREGORIAN
BEGIN:VTIMEZONE
TZID:America/New_York
BEGIN:DAYLIGHT
RRULE:FREQ=YEARLY;BYMONTH=3;BYDAY=2SU
DTSTART:20070101T000000
TZOFFSETFROM:-0500
TZOFFSETTO:-0400
TZNAME:Eastern Daylight Time
END:DAYLIGHT
BEGIN:STANDARD
RRULE:FREQ=YEARLY;BYMONTH=11;BYDAY=1SU
DTSTART:20070101T000000
TZOFFSETFROM:-0400
TZOFFSETTO:-0500
TZNAME:Eastern Standard Time
END:STANDARD
END:VTIMEZONE
BEGIN:VEVENT
DTSTART;TZID=America/New_York:20260401T120000
DTEND;TZID=America/New_York:20260401T130000
X-MICROSOFT-CDO-ALLDAYEVENT:FALSE
SUMMARY:🟦Operationalizing AI: Best Practice Exchange on Executing in the Next 90 Days
DESCRIPTION:Are you frustrated with your AI pilot or not even sure where to start? Join us for a no B.S. peer to peer discussion about what it actually takes to launch AI pilots successfully and move them into real operations. Because if the pilot fails\, the larger strategic initiative usually fails with it. Leaders across sectors are encountering similar warning signs:AI pilots proliferating but few reaching productionUnclear ownership of models\, data usage and decision authorityFragmented systems and data pipelines that undermine trust in outputsGrowing "shadow AI" activity across teamsDate: Wednesday April 1\, 2026Time: 12:00 - 1:00 pm ESTLocation: Virtual This is not a webinar. Expect a conversation will bring together leaders from multiple industries to compare lessons learned\, challenge assumptions and gain insight outside their usual industry bubble. Request your invitation to join us on April 1st!
X-ALT-DESC;FMTTYPE=text/html:<!DOCTYPE html><html><head><title></title></head><body aria-disabled="false"><div data-paragraph="true" style="box-sizing: border-box\; line-height: inherit\; color: rgb(0\, 0\, 0)\; font-family: Roboto\, sans-serif\; font-size: 14px\; font-style: normal\; font-variant-ligatures: normal\; font-variant-caps: normal\; font-weight: 300\; letter-spacing: normal\; orphans: 2\; text-align: left\; text-indent: 0px\; text-transform: none\; widows: 2\; word-spacing: 0px\; -webkit-text-stroke-width: 0px\; white-space: normal\; background-color: rgb(255\, 255\, 255)\; text-decoration-thickness: initial\; text-decoration-style: initial\; text-decoration-color: initial\;">Are you frustrated with your AI pilot or not even sure where to start?</div><div data-paragraph="true" style="box-sizing: border-box\; line-height: inherit\; color: rgb(0\, 0\, 0)\; font-family: Roboto\, sans-serif\; font-size: 14px\; font-style: normal\; font-variant-ligatures: normal\; font-variant-caps: normal\; font-weight: 300\; letter-spacing: normal\; orphans: 2\; text-align: left\; text-indent: 0px\; text-transform: none\; widows: 2\; word-spacing: 0px\; -webkit-text-stroke-width: 0px\; white-space: normal\; background-color: rgb(255\, 255\, 255)\; text-decoration-thickness: initial\; text-decoration-style: initial\; text-decoration-color: initial\;">&nbsp\;</div><div data-paragraph="true" style="box-sizing: border-box\; line-height: inherit\; color: rgb(0\, 0\, 0)\; font-family: Roboto\, sans-serif\; font-size: 14px\; font-style: normal\; font-variant-ligatures: normal\; font-variant-caps: normal\; font-weight: 300\; letter-spacing: normal\; orphans: 2\; text-align: left\; text-indent: 0px\; text-transform: none\; widows: 2\; word-spacing: 0px\; -webkit-text-stroke-width: 0px\; white-space: normal\; background-color: rgb(255\, 255\, 255)\; text-decoration-thickness: initial\; text-decoration-style: initial\; text-decoration-color: initial\;">Join us for a no B.S. peer to peer discussion about what it actually takes to launch AI pilots successfully and move them into real operations. Because if the pilot fails\, the larger strategic initiative usually fails with it.</div><div data-paragraph="true" style="box-sizing: border-box\; line-height: inherit\; color: rgb(0\, 0\, 0)\; font-family: Roboto\, sans-serif\; font-size: 14px\; font-style: normal\; font-variant-ligatures: normal\; font-variant-caps: normal\; font-weight: 300\; letter-spacing: normal\; orphans: 2\; text-align: left\; text-indent: 0px\; text-transform: none\; widows: 2\; word-spacing: 0px\; -webkit-text-stroke-width: 0px\; white-space: normal\; background-color: rgb(255\, 255\, 255)\; text-decoration-thickness: initial\; text-decoration-style: initial\; text-decoration-color: initial\;">&nbsp\;</div><div data-paragraph="true" style="box-sizing: border-box\; line-height: inherit\; color: rgb(0\, 0\, 0)\; font-family: Roboto\, sans-serif\; font-size: 14px\; font-style: normal\; font-variant-ligatures: normal\; font-variant-caps: normal\; font-weight: 300\; letter-spacing: normal\; orphans: 2\; text-align: left\; text-indent: 0px\; text-transform: none\; widows: 2\; word-spacing: 0px\; -webkit-text-stroke-width: 0px\; white-space: normal\; background-color: rgb(255\, 255\, 255)\; text-decoration-thickness: initial\; text-decoration-style: initial\; text-decoration-color: initial\;">Leaders across sectors are encountering similar warning signs:</div><ul fr-original-style="box-sizing: border-box\; margin-top: 0px\; margin-bottom: 1.4rem\; line-height: inherit\; color: rgb(0\, 0\, 0)\; font-family: Roboto\, sans-serif\; font-size: 14px\; font-style: normal\; font-variant-ligatures: normal\; font-variant-caps: normal\; font-weight: 300\; letter-spacing: normal\; orphans: 2\; text-align: left\; text-indent: 0px\; text-transform: none\; widows: 2\; word-spacing: 0px\; -webkit-text-stroke-width: 0px\; white-space: normal\; background-color: rgb(255\, 255\, 255)\; text-decoration-thickness: initial\; text-decoration-style: initial\; text-decoration-color: initial\;" style="box-sizing: border-box\; margin-top: 0px\; margin-bottom: 1.4rem\; line-height: inherit\; color: rgb(0\, 0\, 0)\; font-family: Roboto\, sans-serif\; font-size: 14px\; font-style: normal\; font-variant-ligatures: normal\; font-variant-caps: normal\; font-weight: 300\; letter-spacing: normal\; orphans: 2\; text-align: left\; text-indent: 0px\; text-transform: none\; widows: 2\; word-spacing: 0px\; -webkit-text-stroke-width: 0px\; white-space: normal\; background-color: rgb(255\, 255\, 255)\; text-decoration-thickness: initial\; text-decoration-style: initial\; text-decoration-color: initial\; list-style-position: inside\;"><li style="box-sizing: border-box\; line-height: inherit\;">AI pilots proliferating but few reaching production</li><li style="box-sizing: border-box\; line-height: inherit\;">Unclear ownership of models\, data usage and decision authority</li><li style="box-sizing: border-box\; line-height: inherit\;">Fragmented systems and data pipelines that undermine trust in outputs</li><li style="box-sizing: border-box\; line-height: inherit\;">Growing &ldquo\;shadow AI&rdquo\; activity across teams</li></ul><div data-paragraph="true" style="box-sizing: border-box\; line-height: inherit\; color: rgb(0\, 0\, 0)\; font-family: Roboto\, sans-serif\; font-size: 14px\; font-style: normal\; font-variant-ligatures: normal\; font-variant-caps: normal\; font-weight: 300\; letter-spacing: normal\; orphans: 2\; text-align: left\; text-indent: 0px\; text-transform: none\; widows: 2\; word-spacing: 0px\; -webkit-text-stroke-width: 0px\; white-space: normal\; background-color: rgb(255\, 255\, 255)\; text-decoration-thickness: initial\; text-decoration-style: initial\; text-decoration-color: initial\;"><strong fr-original-style="box-sizing: border-box\; font-weight: bolder\; line-height: inherit\;" style="box-sizing: border-box\; font-weight: bolder\; line-height: inherit\;">Date</strong>: Wednesday April 1\, 2026</div><div data-paragraph="true" style="box-sizing: border-box\; line-height: inherit\; color: rgb(0\, 0\, 0)\; font-family: Roboto\, sans-serif\; font-size: 14px\; font-style: normal\; font-variant-ligatures: normal\; font-variant-caps: normal\; font-weight: 300\; letter-spacing: normal\; orphans: 2\; text-align: left\; text-indent: 0px\; text-transform: none\; widows: 2\; word-spacing: 0px\; -webkit-text-stroke-width: 0px\; white-space: normal\; background-color: rgb(255\, 255\, 255)\; text-decoration-thickness: initial\; text-decoration-style: initial\; text-decoration-color: initial\;"><strong fr-original-style="box-sizing: border-box\; font-weight: bolder\; line-height: inherit\;" style="box-sizing: border-box\; font-weight: bolder\; line-height: inherit\;">Time</strong>: 12:00 - 1:00 pm EST</div><div data-paragraph="true" style="box-sizing: border-box\; line-height: inherit\; color: rgb(0\, 0\, 0)\; font-family: Roboto\, sans-serif\; font-size: 14px\; font-style: normal\; font-variant-ligatures: normal\; font-variant-caps: normal\; font-weight: 300\; letter-spacing: normal\; orphans: 2\; text-align: left\; text-indent: 0px\; text-transform: none\; widows: 2\; word-spacing: 0px\; -webkit-text-stroke-width: 0px\; white-space: normal\; background-color: rgb(255\, 255\, 255)\; text-decoration-thickness: initial\; text-decoration-style: initial\; text-decoration-color: initial\;"><strong fr-original-style="box-sizing: border-box\; font-weight: bolder\; line-height: inherit\;" style="box-sizing: border-box\; font-weight: bolder\; line-height: inherit\;">Location</strong>: Virtual</div><div data-paragraph="true" style="box-sizing: border-box\; line-height: inherit\; color: rgb(0\, 0\, 0)\; font-family: Roboto\, sans-serif\; font-size: 14px\; font-style: normal\; font-variant-ligatures: normal\; font-variant-caps: normal\; font-weight: 300\; letter-spacing: normal\; orphans: 2\; text-align: left\; text-indent: 0px\; text-transform: none\; widows: 2\; word-spacing: 0px\; -webkit-text-stroke-width: 0px\; white-space: normal\; background-color: rgb(255\, 255\, 255)\; text-decoration-thickness: initial\; text-decoration-style: initial\; text-decoration-color: initial\;">&nbsp\;</div><div data-paragraph="true" style="box-sizing: border-box\; line-height: inherit\; color: rgb(0\, 0\, 0)\; font-family: Roboto\, sans-serif\; font-size: 14px\; font-style: normal\; font-variant-ligatures: normal\; font-variant-caps: normal\; font-weight: 300\; letter-spacing: normal\; orphans: 2\; text-align: left\; text-indent: 0px\; text-transform: none\; widows: 2\; word-spacing: 0px\; -webkit-text-stroke-width: 0px\; white-space: normal\; background-color: rgb(255\, 255\, 255)\; text-decoration-thickness: initial\; text-decoration-style: initial\; text-decoration-color: initial\;"><strong fr-original-style="box-sizing: border-box\; font-weight: bolder\; line-height: inherit\;" style="box-sizing: border-box\; font-weight: bolder\; line-height: inherit\;">This is not a webinar. Expect a conversation will bring together leaders from multiple industries to compare lessons learned\, challenge assumptions and gain insight outside their usual industry bubble.</strong></div><div data-paragraph="true" style="box-sizing: border-box\; line-height: inherit\; color: rgb(0\, 0\, 0)\; font-family: Roboto\, sans-serif\; font-size: 14px\; font-style: normal\; font-variant-ligatures: normal\; font-variant-caps: normal\; font-weight: 300\; letter-spacing: normal\; orphans: 2\; text-align: left\; text-indent: 0px\; text-transform: none\; widows: 2\; word-spacing: 0px\; -webkit-text-stroke-width: 0px\; white-space: normal\; background-color: rgb(255\, 255\, 255)\; text-decoration-thickness: initial\; text-decoration-style: initial\; text-decoration-color: initial\;">&nbsp\;</div><div data-paragraph="true" style="box-sizing: border-box\; line-height: inherit\; color: rgb(0\, 0\, 0)\; font-family: Roboto\, sans-serif\; font-size: 14px\; font-style: normal\; font-variant-ligatures: normal\; font-variant-caps: normal\; font-weight: 300\; letter-spacing: normal\; orphans: 2\; text-align: left\; text-indent: 0px\; text-transform: none\; widows: 2\; word-spacing: 0px\; -webkit-text-stroke-width: 0px\; white-space: normal\; background-color: rgb(255\, 255\, 255)\; text-decoration-thickness: initial\; text-decoration-style: initial\; text-decoration-color: initial\;"><a fr-original-style="" href="https://bensonconsultinginc.myflodesk.com/operationalai" rel="noopener noreferrer" style="user-select: auto\;" target="_blank"><strong fr-original-style="">Request your invitation to join us on April 1st!</strong></a></div></body></html>
LOCATION:
UID:e.4070.1424554
SEQUENCE:3
DTSTAMP:20260425T152415Z
URL:https://business.nhtechalliance.org/small-calendar/Details/operationalizing-ai-best-practice-exchange-on-executing-in-the-next-90-days-1684282?sourceTypeId=Hub
END:VEVENT
END:VCALENDAR
