BEGIN:VCALENDAR
VERSION:2.0
PRODID:-//ChamberMaster//Event Calendar 2.0//EN
METHOD:PUBLISH
X-PUBLISHED-TTL:P1H
REFRESH-INTERVAL:P1H
CALSCALE:GREGORIAN
BEGIN:VTIMEZONE
TZID:America/New_York
BEGIN:DAYLIGHT
RRULE:FREQ=YEARLY;BYMONTH=3;BYDAY=2SU
DTSTART:20070101T000000
TZOFFSETFROM:-0500
TZOFFSETTO:-0400
TZNAME:Eastern Daylight Time
END:DAYLIGHT
BEGIN:STANDARD
RRULE:FREQ=YEARLY;BYMONTH=11;BYDAY=1SU
DTSTART:20070101T000000
TZOFFSETFROM:-0400
TZOFFSETTO:-0500
TZNAME:Eastern Standard Time
END:STANDARD
END:VTIMEZONE
BEGIN:VEVENT
DTSTART;TZID=America/New_York:20260616T073000
DTEND;TZID=America/New_York:20260618T171500
X-MICROSOFT-CDO-ALLDAYEVENT:FALSE
SUMMARY:🟦Space Summit 2026 - Northeast Space Defense & Innovation Summit
DESCRIPTION:About this eventSpace Summit 2026 ("SFA - AOC Northeast Space Defense & Innovation Summit: Evolving Space Services for Resilient Operations") is a three-day forum dedicated to evaluating the current state of the Northeast space ecosystem and identifying strategies to strengthen the space domain. The summit will focus on advancing resilience\, performance\, and survivability to ensure the delivery of assured space services\, including SATCOM\, PNT\, sensing\, and EW spectrum availability\, for both commercial and military users. The program will also examine the relationship between space resilience and strategic mission priorities\, including C3BM and broader modernization initiatives that depend on the sustained viability of space systems.Co-hosted by the Space Force Association (SFA) Northeast Chapter and the Association of Old Crows (AOC)\, Space Summit 2026 will convene leaders from the U.S. Space Force\, the Joint Staff\, the Intelligence Community\, other military services\, federally funded research and development centers (FFRDCs)\, industry\, including startups and emerging technology firms\, and academia. Across three days\, the Summit will bring together key stakeholders to examine the strategic\, operational\, and technical challenges shaping the future of resilient space services.Day 1\, conducted at the unclassified level\, will frame mission dependencies within the broader context of economic realities\, commercial investment\, and the evolving space marketplace. Days 2 and 3\, conducted at the classified level\, will focus on technology\, integration\, and the challenges of operating in contested environments. Invited keynote speakers include several General officers\, alongside other senior leaders from government\, FFRDCs\, and industry.The Summit is designed to strengthen collaboration across the national security space community\, deepen understanding of emerging kinetic and non-kinetic threats\, and better align requirements\, investment\, and test strategies to advance a more resilient space services enterprise.Learn More & Attend
X-ALT-DESC;FMTTYPE=text/html:<!DOCTYPE html><html><head><title></title></head><body aria-disabled="false"><h5 style="box-sizing: border-box\; margin-top: 0px\; margin-bottom: 0.5rem\; font-family: roboto\; font-weight: 700\; line-height: 1.2\; color: rgb(61\, 61\, 61)\; font-size: 1.25rem\; font-style: normal\; font-variant-ligatures: normal\; font-variant-caps: normal\; letter-spacing: normal\; orphans: 2\; text-align: left\; text-indent: 0px\; text-transform: none\; widows: 2\; word-spacing: 0px\; -webkit-text-stroke-width: 0px\; white-space: normal\; background-color: rgb(255\, 255\, 255)\; text-decoration-thickness: initial\; text-decoration-style: initial\; text-decoration-color: initial\;">About this event</h5><div style="box-sizing: border-box\; color: rgb(61\, 61\, 61)\; font-family: roboto\; font-size: 16px\; font-style: normal\; font-variant-ligatures: normal\; font-variant-caps: normal\; font-weight: 400\; letter-spacing: normal\; orphans: 2\; text-align: left\; text-indent: 0px\; text-transform: none\; widows: 2\; word-spacing: 0px\; -webkit-text-stroke-width: 0px\; white-space: normal\; background-color: rgb(255\, 255\, 255)\; text-decoration-thickness: initial\; text-decoration-style: initial\; text-decoration-color: initial\;"><p style="box-sizing: border-box\; margin-top: 0px\; margin-bottom: 1rem\; color: rgb(61\, 61\, 61)\;">Space Summit 2026 (&ldquo\;SFA - AOC Northeast Space Defense &amp\; Innovation Summit: Evolving Space Services for Resilient Operations&rdquo\;) is a three-day forum dedicated to evaluating the current state of the Northeast space ecosystem and identifying strategies to strengthen the space domain. The summit will focus on advancing resilience\, performance\, and survivability to ensure the delivery of assured space services\, including SATCOM\, PNT\, sensing\, and EW spectrum availability\, for both commercial and military users. The program will also examine the relationship between space resilience and strategic mission priorities\, including C3BM and broader modernization initiatives that depend on the sustained viability of space systems.</p><p style="box-sizing: border-box\; margin-top: 0px\; margin-bottom: 1rem\; color: rgb(61\, 61\, 61)\;">Co-hosted by the Space Force Association (SFA) Northeast Chapter and the Association of Old Crows (AOC)\, Space Summit 2026 will convene leaders from the U.S. Space Force\, the Joint Staff\, the Intelligence Community\, other military services\, federally funded research and development centers (FFRDCs)\, industry\, including startups and emerging technology firms\, and academia. Across three days\, the Summit will bring together key stakeholders to examine the strategic\, operational\, and technical challenges shaping the future of resilient space services.</p><p style="box-sizing: border-box\; margin-top: 0px\; margin-bottom: 1rem\; color: rgb(61\, 61\, 61)\;">Day 1\, conducted at the unclassified level\, will frame mission dependencies within the broader context of economic realities\, commercial investment\, and the evolving space marketplace. Days 2 and 3\, conducted at the classified level\, will focus on technology\, integration\, and the challenges of operating in contested environments. Invited keynote speakers include several General officers\, alongside other senior leaders from government\, FFRDCs\, and industry.</p><p style="box-sizing: border-box\; margin-top: 0px\; margin-bottom: 1rem\; color: rgb(61\, 61\, 61)\;">The Summit is designed to strengthen collaboration across the national security space community\, deepen understanding of emerging kinetic and non-kinetic threats\, and better align requirements\, investment\, and test strategies to advance a more resilient space services enterprise.</p><p style="box-sizing: border-box\; margin-top: 0px\; margin-bottom: 1rem\; color: rgb(61\, 61\, 61)\;"><a fr-original-style="" href="https://app.memberplanet.com/#/event/aoc-patriotsroost/spacesummit2026" rel="noopener noreferrer" style="user-select: auto\;" target="_blank"><strong fr-original-style="" style="font-weight: 700\;">Learn More &amp\; Attend</strong></a></p></div></body></html>
LOCATION:202 Burlington Road Bedford MA 01730
UID:e.4070.1450334
SEQUENCE:3
DTSTAMP:20260425T152431Z
URL:https://business.nhtechalliance.org/small-calendar/Details/space-summit-2026-northeast-space-defense-innovation-summit-1717913?sourceTypeId=Hub
END:VEVENT
END:VCALENDAR
