BEGIN:VCALENDAR
VERSION:2.0
PRODID:-//ChamberMaster//Event Calendar 2.0//EN
METHOD:PUBLISH
X-PUBLISHED-TTL:P1H
REFRESH-INTERVAL:P1H
CALSCALE:GREGORIAN
BEGIN:VTIMEZONE
TZID:America/New_York
BEGIN:DAYLIGHT
RRULE:FREQ=YEARLY;BYMONTH=3;BYDAY=2SU
DTSTART:20070101T000000
TZOFFSETFROM:-0500
TZOFFSETTO:-0400
TZNAME:Eastern Daylight Time
END:DAYLIGHT
BEGIN:STANDARD
RRULE:FREQ=YEARLY;BYMONTH=11;BYDAY=1SU
DTSTART:20070101T000000
TZOFFSETFROM:-0400
TZOFFSETTO:-0500
TZNAME:Eastern Standard Time
END:STANDARD
END:VTIMEZONE
BEGIN:VEVENT
DTSTART;TZID=America/New_York:20260402T173000
DTEND;TZID=America/New_York:20260402T193000
X-MICROSOFT-CDO-ALLDAYEVENT:FALSE
SUMMARY:🟦The Next Gen
DESCRIPTION:BySheehan Phinney\n\n\nRegister\nHarpoon Brewery - Queen City Center\, Manchester\, NHThursday\, Apr 2 from 5:30 pm to 7:30 pmOverviewBringing together The Next Generation of leadership in the business community for a casual\, fun\, networking event.Brought to you by Sheehan Phinney\, York IE\, and Berry Dunn.There is metered\, street parking around the brewery as well as parking in the Center of NH garage.
X-ALT-DESC;FMTTYPE=text/html:<!DOCTYPE html><html><head><title></title></head><body aria-disabled="false"><div data-testid="event-details" style='box-sizing: border-box\; padding: 0px\; margin: 0px\; color: rgb(38\, 27\, 54)\; font-style: normal\; font-family: "Neue Plak"\, -apple-system\, BlinkMacSystemFont\, Roboto\, "Helvetica Neue"\, Helvetica\, Tahoma\, Arial\, sans-serif\; font-size: medium\; font-variant-ligatures: normal\; font-variant-caps: normal\; font-weight: 400\; letter-spacing: normal\; orphans: 2\; text-align: start\; text-indent: 0px\; text-transform: none\; widows: 2\; word-spacing: 0px\; -webkit-text-stroke-width: 0px\; white-space: normal\; text-decoration-thickness: initial\; text-decoration-style: initial\; text-decoration-color: initial\;'><div style="box-sizing: border-box\; padding: 12px 0px 0px\; margin: 0px\; width: fit-content\;"><div data-testid="organizer-info" style="box-sizing: border-box\; padding: 0px\; margin: 0px\; display: flex\; align-items: center\; justify-content: space-between\;"><div style="box-sizing: border-box\; padding: 0px\; margin: 0px\; display: flex\; align-items: center\;"><span style="box-sizing: border-box\; padding: 0px 4px 0px 0px\; margin: 0px\; font-size: 15px\; line-height: 19.95px\;">By</span><a fr-original-style="box-sizing: border-box\; padding: 0px\; margin: 0px\; text-overflow: ellipsis\; font-size: 15px\; font-weight: 600\; line-height: 19.95px\; text-decoration: none\; color: inherit\;" href="https://www.eventbrite.com/e/the-next-gen-tickets-1981048878524?aff=MC#organizer-card" style="box-sizing: border-box\; padding: 0px\; margin: 0px\; text-overflow: ellipsis\; font-size: 15px\; font-weight: 600\; line-height: 19.95px\; text-decoration: none\; color: inherit\; user-select: auto\;">Sheehan Phinney</a></div><p><br></p><p><br></p><p><br></p></div></div><div style="box-sizing: border-box\; padding: 16px 0px 0px\; margin: 0px\; display: flex\; flex-direction: column\; gap: 4px\;"><a data-testid="event-venue" fr-original-style="box-sizing: border-box\; padding: 0px\; margin: 0px\; overflow: hidden\; color: inherit\; text-overflow: ellipsis\; font-size: 15px\; font-style: normal\; font-weight: 400\; line-height: 19.95px\; letter-spacing: 0.1px\; --bullet-color: #261b36\; --bullet-padding: 0 4px\; --bullet-size: 3px\; text-decoration: none\;" href="https://www.eventbrite.com/e/the-next-gen-tickets-1981048878524?aff=MC#location" style="box-sizing: border-box\; padding: 0px\; margin: 0px\; overflow: hidden\; color: inherit\; text-overflow: ellipsis\; font-size: 15px\; font-style: normal\; font-weight: 400\; line-height: 19.95px\; letter-spacing: 0.1px\; --bullet-color: #261b36\; --bullet-padding: 0 4px\; --bullet-size: 3px\; text-decoration: none\; user-select: auto\;"><svg aria-label="Location" width="16" height="16"><path></path><path></path></svg></a></div><div style="box-sizing: border-box\; padding: 16px 0px 0px\; margin: 0px\; display: flex\; flex-direction: column\; gap: 4px\;"><a fr-original-style="" href="https://www.eventbrite.com/e/the-next-gen-tickets-1981048878524?aff=MC" rel="noopener noreferrer" style="user-select: auto\;" target="_blank"><strong fr-original-style="" style="font-weight: 700\;">Register<br></strong></a></div><div style="box-sizing: border-box\; padding: 16px 0px 0px\; margin: 0px\; display: flex\; flex-direction: column\; gap: 4px\;"><a data-testid="event-venue" fr-original-style="box-sizing: border-box\; padding: 0px\; margin: 0px\; overflow: hidden\; color: inherit\; text-overflow: ellipsis\; font-size: 15px\; font-style: normal\; font-weight: 400\; line-height: 19.95px\; letter-spacing: 0.1px\; --bullet-color: #261b36\; --bullet-padding: 0 4px\; --bullet-size: 3px\; text-decoration: none\;" href="https://www.eventbrite.com/e/the-next-gen-tickets-1981048878524?aff=MC#location" style="box-sizing: border-box\; padding: 0px\; margin: 0px\; overflow: hidden\; color: inherit\; text-overflow: ellipsis\; font-size: 15px\; font-style: normal\; font-weight: 400\; line-height: 19.95px\; letter-spacing: 0.1px\; --bullet-color: #261b36\; --bullet-padding: 0 4px\; --bullet-size: 3px\; text-decoration: none\; user-select: auto\;">Harpoon Brewery - Queen City Center\, Manchester\, NH</a><div data-testid="event-datetime" style="box-sizing: border-box\; padding: 0px\; margin: 0px\; overflow: hidden\; color: rgb(38\, 27\, 54)\; text-overflow: ellipsis\; font-size: 15px\; font-style: normal\; font-weight: 400\; line-height: 19.95px\; letter-spacing: 0.1px\; --bullet-color: #261b36\; --bullet-padding: 0 4px\; --bullet-size: 3px\;"><svg aria-label="Calendar" width="16" height="16"><path></path><path></path><path></path></svg><span style="box-sizing: border-box\; padding: 0px\; margin: 0px\;">Thursday\, Apr 2 from 5:30 pm to 7:30 pm</span></div></div></div><div data-testid="section-wrapper-overview" style='box-sizing: border-box\; padding: 0px\; margin: 0px\; color: rgb(38\, 27\, 54)\; font-family: "Neue Plak"\, -apple-system\, BlinkMacSystemFont\, Roboto\, "Helvetica Neue"\, Helvetica\, Tahoma\, Arial\, sans-serif\; font-size: medium\; font-style: normal\; font-variant-ligatures: normal\; font-variant-caps: normal\; font-weight: 400\; letter-spacing: normal\; orphans: 2\; text-align: start\; text-indent: 0px\; text-transform: none\; widows: 2\; word-spacing: 0px\; -webkit-text-stroke-width: 0px\; white-space: normal\; text-decoration-thickness: initial\; text-decoration-style: initial\; text-decoration-color: initial\;'><div style="box-sizing: border-box\; padding: 0px 0px 16px\; margin: 0px\; font-style: normal\; font-weight: 600\; line-height: 31.92px\; font-size: 24px\;">Overview</div><div style="box-sizing: border-box\; padding: 0px\; margin: 0px\; position: relative\;"><div style="box-sizing: border-box\; padding: 0px\; margin: 0px\; color: rgb(88\, 81\, 99)\; overflow: hidden\; text-overflow: ellipsis\; font-style: normal\; font-weight: 400\; line-height: 23.94px\; letter-spacing: 0.1px\; display: -webkit-box\; -webkit-line-clamp: 6\; -webkit-box-orient: vertical\; font-size: 18px\;"><p style="box-sizing: border-box\; padding: 0px 0px 12px\; margin: 0px 0px 8px\;">Bringing together The Next Generation of leadership in the business community for a casual\, fun\, networking event.</p><div style="box-sizing: border-box\; padding: 0px\; margin: 0px\;"><p style="box-sizing: border-box\; padding: 0px 0px 12px\; margin: 0px 0px 8px\;">Brought to you by Sheehan Phinney\, York IE\, and Berry Dunn.</p><p style="box-sizing: border-box\; padding: 0px 0px 12px\; margin: 0px 0px 8px\;">There is metered\, street parking around the brewery as well as parking in the Center of NH garage.</p></div></div></div></div></body></html>
LOCATION:Queen City Center Manchester NH
UID:e.4070.1419736
SEQUENCE:3
DTSTAMP:20260425T152140Z
URL:https://business.nhtechalliance.org/small-calendar/Details/the-next-gen-1678105?sourceTypeId=Hub
END:VEVENT
END:VCALENDAR
