BEGIN:VCALENDAR
VERSION:2.0
PRODID:-//ChamberMaster//Event Calendar 2.0//EN
METHOD:PUBLISH
X-PUBLISHED-TTL:P1H
REFRESH-INTERVAL:P1H
CALSCALE:GREGORIAN
BEGIN:VTIMEZONE
TZID:America/New_York
BEGIN:DAYLIGHT
RRULE:FREQ=YEARLY;BYMONTH=3;BYDAY=2SU
DTSTART:20070101T000000
TZOFFSETFROM:-0500
TZOFFSETTO:-0400
TZNAME:Eastern Daylight Time
END:DAYLIGHT
BEGIN:STANDARD
RRULE:FREQ=YEARLY;BYMONTH=11;BYDAY=1SU
DTSTART:20070101T000000
TZOFFSETFROM:-0400
TZOFFSETTO:-0500
TZNAME:Eastern Standard Time
END:STANDARD
END:VTIMEZONE
BEGIN:VEVENT
DTSTART;TZID=America/New_York:20260513T090000
DTEND;TZID=America/New_York:20260513T100000
X-MICROSOFT-CDO-ALLDAYEVENT:FALSE
SUMMARY:🟦Why IT Delivery Breaks — and How Leaders Fix It
DESCRIPTION:Why IT Delivery Breaks   and How Leaders Fix ItA strategic conversation for CIOs and IT leaders who need delivery they can defend. Every CIO is accountable for one thing above all else - predictable delivery that business stakeholders can trust. Yet even high‑performing IT organizations struggle with shifting priorities\, unclear ownership\, unplanned work and delivery drift that erodes confidence at the executive table. This session tackles the real question: "Why can't we reliably finish what we start   and what will it take to fix that?" In this conversation\, we'll examine:How to know if predictability is actually the problem inside your organization (and where it hides)The solution patterns CIOs are using to stabilize intake\, scope\, and delivery flowWhere delivery breaks down   the systemic risks that sabotage timelines\, adoption and stakeholder trustWhen internal teams can solve the problem and when outside expertise accelerates outcomesWhat it really costs to build a predictable delivery engine   and the cost of not doing it nowYou'll walk away with a clear framework to evaluate your current delivery system\, identify the gaps that matter most\, and understand the levers that create consistency\, transparency and trust across your portfolio. Date: Wednesday May 13\, 2026Time: 9:00 - 10:00 am ESTLocation: Virtual This is not a webinar. It's a candid\, CIO‑level discussion about the finish line   the part of IT delivery that determines credibility\, influence and strategic relevance. Request your invitation to join us on May 13th!
X-ALT-DESC;FMTTYPE=text/html:<!DOCTYPE html><html><head><title></title></head><body aria-disabled="false"><div style="box-sizing: border-box\; color: rgb(210\, 178\, 129)\; width: 480px\; margin: 0px 0px 44px\; display: block\; font-size: 41px\; text-align: center\; font-family: Roboto\, sans-serif\; font-weight: 700\; line-height: 1.1\; letter-spacing: normal\; text-transform: none\; font-style: normal\; font-variant-ligatures: normal\; font-variant-caps: normal\; orphans: 2\; text-indent: 0px\; widows: 2\; word-spacing: 0px\; -webkit-text-stroke-width: 0px\; white-space: normal\; background-color: rgb(255\, 255\, 255)\; text-decoration-thickness: initial\; text-decoration-style: initial\; text-decoration-color: initial\;"><div style="box-sizing: border-box\; line-height: inherit\; word-break: break-word\;"><div data-paragraph="true" style="box-sizing: border-box\; line-height: inherit\;">Why IT Delivery Breaks &mdash\; and How Leaders Fix It</div></div></div><div style="box-sizing: border-box\; color: rgb(0\, 0\, 0)\; width: 384px\; margin: 0px 0px 44px\; display: block\; font-size: 14px\; max-width: 384px\; text-align: left\; font-family: Roboto\, sans-serif\; font-weight: 400\; line-height: 1.4\; letter-spacing: normal\; text-transform: none\; font-style: normal\; font-variant-ligatures: normal\; font-variant-caps: normal\; orphans: 2\; text-indent: 0px\; widows: 2\; word-spacing: 0px\; -webkit-text-stroke-width: 0px\; white-space: normal\; background-color: rgb(255\, 255\, 255)\; text-decoration-thickness: initial\; text-decoration-style: initial\; text-decoration-color: initial\;"><div style="box-sizing: border-box\; line-height: inherit\; word-break: break-word\;"><div data-paragraph="true" style="box-sizing: border-box\; line-height: inherit\;"><i style="box-sizing: border-box\; line-height: inherit\;">A strategic conversation for CIOs and IT leaders who need delivery they can defend.</i></div><div data-paragraph="true" style="box-sizing: border-box\; line-height: inherit\;">&nbsp\;</div><div data-paragraph="true" style="box-sizing: border-box\; line-height: inherit\;">Every CIO is accountable for one thing above all else - predictable delivery that business stakeholders can trust.&nbsp\;</div><div data-paragraph="true" style="box-sizing: border-box\; line-height: inherit\;">Yet even high‑performing IT organizations struggle with shifting priorities\, unclear ownership\, unplanned work and delivery drift that erodes confidence at the executive table.</div><div data-paragraph="true" style="box-sizing: border-box\; line-height: inherit\;">&nbsp\;</div><div data-paragraph="true" style="box-sizing: border-box\; line-height: inherit\;">This session tackles the real question:&nbsp\;</div><div data-paragraph="true" style="box-sizing: border-box\; line-height: inherit\;"><i style="box-sizing: border-box\; line-height: inherit\;">&ldquo\;Why can&rsquo\;t we reliably finish what we start &mdash\; and what will it take to fix that?&rdquo\;</i></div><div data-paragraph="true" style="box-sizing: border-box\; line-height: inherit\;">&nbsp\;</div><div data-paragraph="true" style="box-sizing: border-box\; line-height: inherit\;">In this conversation\, we&rsquo\;ll examine:</div><ul fr-original-style="box-sizing: border-box\; margin-top: 0px\; margin-bottom: 1.4rem\; line-height: inherit\;" style="box-sizing: border-box\; margin-top: 0px\; margin-bottom: 1.4rem\; line-height: inherit\; list-style-position: inside\;"><li style="box-sizing: border-box\; line-height: 1.5\;">How to know if predictability is actually the problem inside your organization (and where it hides)</li><li style="box-sizing: border-box\; line-height: 1.5\;">The solution patterns CIOs are using to stabilize intake\, scope\, and delivery flow</li><li style="box-sizing: border-box\; line-height: 1.5\;">Where delivery breaks down &mdash\; the systemic risks that sabotage timelines\, adoption and stakeholder trust</li><li style="box-sizing: border-box\; line-height: 1.5\;">When internal teams can solve the problem and when outside expertise accelerates outcomes</li><li style="box-sizing: border-box\; line-height: 1.5\;">What it really costs to build a predictable delivery engine &mdash\; and the cost of&nbsp\;<i style="box-sizing: border-box\; line-height: inherit\;">not</i> doing it now</li></ul><div data-paragraph="true" style="box-sizing: border-box\; line-height: inherit\;">You&rsquo\;ll walk away with a clear framework to evaluate your current delivery system\, identify the gaps that matter most\, and understand the levers that create consistency\, transparency and trust across your portfolio.</div><div data-paragraph="true" style="box-sizing: border-box\; line-height: inherit\;">&nbsp\;</div><div data-paragraph="true" style="box-sizing: border-box\; line-height: 1.8\;">Date: Wednesday May 13\, 2026</div><div data-paragraph="true" style="box-sizing: border-box\; line-height: 1.8\;">Time: 9:00 - 10:00 am EST</div><div data-paragraph="true" style="box-sizing: border-box\; line-height: 1.8\;">Location: Virtual</div><div data-paragraph="true" style="box-sizing: border-box\; line-height: inherit\;">&nbsp\;</div><div data-paragraph="true" style="box-sizing: border-box\; line-height: inherit\;">This is not a webinar. It&rsquo\;s a candid\, CIO‑level discussion about the finish line &mdash\; the part of IT delivery that determines credibility\, influence and strategic relevance.</div><div data-paragraph="true" style="box-sizing: border-box\; line-height: inherit\;">&nbsp\;</div><div data-paragraph="true" style="box-sizing: border-box\; line-height: inherit\;"><a fr-original-style="" href="https://bensonconsultinginc.myflodesk.com/fixdelivery" rel="noopener noreferrer" style="user-select: auto\;" target="_blank"><strong fr-original-style="" style="font-weight: 700\;">Request your invitation to join us on May 13th!</strong></a></div></div></div></body></html>
LOCATION:
UID:e.4070.1450330
SEQUENCE:3
DTSTAMP:20260425T152308Z
URL:https://business.nhtechalliance.org/small-calendar/Details/why-it-delivery-breaks-and-how-leaders-fix-it-1717909?sourceTypeId=Hub
END:VEVENT
END:VCALENDAR
